BEGIN:VCALENDAR
VERSION:2.0
PRODID:-//Options Solutions Educational Consultants - ECPv6.0.12//NONSGML v1.0//EN
CALSCALE:GREGORIAN
METHOD:PUBLISH
X-ORIGINAL-URL:https://optionssolutionsed.thedev.ca
X-WR-CALDESC:Events for Options Solutions Educational Consultants
REFRESH-INTERVAL;VALUE=DURATION:PT1H
X-Robots-Tag:noindex
X-PUBLISHED-TTL:PT1H
BEGIN:VTIMEZONE
TZID:America/Vancouver
BEGIN:DAYLIGHT
TZOFFSETFROM:-0800
TZOFFSETTO:-0700
TZNAME:PDT
DTSTART:20190310T100000
END:DAYLIGHT
BEGIN:STANDARD
TZOFFSETFROM:-0700
TZOFFSETTO:-0800
TZNAME:PST
DTSTART:20191103T090000
END:STANDARD
END:VTIMEZONE
BEGIN:VEVENT
DTSTART;TZID=America/Vancouver:20190501T173000
DTEND;TZID=America/Vancouver:20190501T193000
DTSTAMP:20260425T200206
CREATED:20190503T181554Z
LAST-MODIFIED:20190503T181554Z
UID:2779-1556731800-1556739000@optionssolutionsed.thedev.ca
SUMMARY:ACT/SAT Prep 2019: Core Test Skills Sessions
DESCRIPTION:Core test skills classes at Options Solutions allow students to prepare for the ACT and/or SAT exam(s) while also building essential academic skills. Students develop their abilities as active readers\, learn fundamental grammar\, and increase their understanding of essay structure. On-going classes prepare students for the ACT and/or SAT by teaching test structure and test-taking strategy. At the same time\, students learn skills that translate into success at school in reading and writing. \nStudents can attend each session or pick and choose the sessions they need. Content is unique for each session and is never repeated. Each session is 2 hours in length. Sessions will be on Wednesdays from 5:30 – 7:30 PM at the South Granville office (3195 Granville St\, Suite 203) from April to June. The schedule below highlights the focus of each session. \n\nWednesday\, May 1 – Math\nWednesday\, May 8 – Reading/Grammar/Writing\nWednesday\, May 15 – Reading/Grammar/Writing\nWednesday\, May 22 – Math\nWednesday\, May 29 – Reading/Grammar/Writing\nWednesday\, June 5 – Reading/Grammar/Writing
URL:https://optionssolutionsed.thedev.ca/calendar/act-sat-prep-2019-core-test-skills-sessions/2019-05-01/
LOCATION:South Granville Office\, 3195 Granville Street\, Suite 203\, Vancouver\, BC\, V6H 3K2\, Canada
CATEGORIES:ACT prep,workshop
ORGANIZER;CN="Options%20Solutions%20-%20South%20Granville":MAILTO:van@optionssolutionsed.com
END:VEVENT
END:VCALENDAR