BEGIN:VCALENDAR
VERSION:2.0
PRODID:-//Options Solutions Educational Consultants - ECPv6.0.12//NONSGML v1.0//EN
CALSCALE:GREGORIAN
METHOD:PUBLISH
X-WR-CALNAME:Options Solutions Educational Consultants
X-ORIGINAL-URL:https://optionssolutionsed.thedev.ca
X-WR-CALDESC:Events for Options Solutions Educational Consultants
REFRESH-INTERVAL;VALUE=DURATION:PT1H
X-Robots-Tag:noindex
X-PUBLISHED-TTL:PT1H
BEGIN:VTIMEZONE
TZID:America/Vancouver
BEGIN:DAYLIGHT
TZOFFSETFROM:-0800
TZOFFSETTO:-0700
TZNAME:PDT
DTSTART:20200308T100000
END:DAYLIGHT
BEGIN:STANDARD
TZOFFSETFROM:-0700
TZOFFSETTO:-0800
TZNAME:PST
DTSTART:20201101T090000
END:STANDARD
END:VTIMEZONE
BEGIN:VEVENT
DTSTART;TZID=America/Vancouver:20200828T090000
DTEND;TZID=America/Vancouver:20200828T130000
DTSTAMP:20260425T174353
CREATED:20200415T164906Z
LAST-MODIFIED:20200415T165406Z
UID:6082-1598605200-1598619600@optionssolutionsed.thedev.ca
SUMMARY:Young Entrepreneurs Leadership Launchpad (YELL) Summer Workshop
DESCRIPTION:Want to figure out how to take an idea and turn it into reality? Want to learn about business this summer? \nThe Young Entrepreneur Summer Workshop is a week-long boot camp that will introduce you to the tools and exercises that entrepreneurs use to turn their vision into reality. You’ll learn about entrepreneurship\, design thinking\, how to validate if people are interested in your idea\, and much more. Whether you come with an idea or not\, the program will culminate in your pitching a start-up concept to judges\, and we’ll help you get there! 65% of youth say they’re interested in starting their own business; are you one of them? \nStudents will: \n\nLearn about entrepreneurship in an intensive one-week camp\nHear from inspiring local entrepreneurs and business leaders\nWork with a small group of peers on bringing your project to reality\nExperience a week of business education\nWork with dynamic YELL teachers\nBuild your extracurricular profile\nDevelop problem-solving skills\nPitch your idea to a panel of judges!\n\nAbout the Instructor: \nJo-Anne was the first YELL teacher and has played an instrumental role in shaping and contributing to its\neducational practices and culture. She is a teacher and Athletic Director at West Vancouver Secondary\nSchool. Teaching is her second career\, and she absolutely loves being a part of the educational and athletic\nadventures of her students.
URL:https://optionssolutionsed.thedev.ca/calendar/young-entrepreneurs-leadership-launchpad-yell-summer-workshop/2020-08-28/
CATEGORIES:summer boot camps,workshop
END:VEVENT
BEGIN:VEVENT
DTSTART;TZID=America/Vancouver:20200827T090000
DTEND;TZID=America/Vancouver:20200827T130000
DTSTAMP:20260425T174353
CREATED:20200415T164906Z
LAST-MODIFIED:20200415T165405Z
UID:6081-1598518800-1598533200@optionssolutionsed.thedev.ca
SUMMARY:Young Entrepreneurs Leadership Launchpad (YELL) Summer Workshop
DESCRIPTION:Want to figure out how to take an idea and turn it into reality? Want to learn about business this summer? \nThe Young Entrepreneur Summer Workshop is a week-long boot camp that will introduce you to the tools and exercises that entrepreneurs use to turn their vision into reality. You’ll learn about entrepreneurship\, design thinking\, how to validate if people are interested in your idea\, and much more. Whether you come with an idea or not\, the program will culminate in your pitching a start-up concept to judges\, and we’ll help you get there! 65% of youth say they’re interested in starting their own business; are you one of them? \nStudents will: \n\nLearn about entrepreneurship in an intensive one-week camp\nHear from inspiring local entrepreneurs and business leaders\nWork with a small group of peers on bringing your project to reality\nExperience a week of business education\nWork with dynamic YELL teachers\nBuild your extracurricular profile\nDevelop problem-solving skills\nPitch your idea to a panel of judges!\n\nAbout the Instructor: \nJo-Anne was the first YELL teacher and has played an instrumental role in shaping and contributing to its\neducational practices and culture. She is a teacher and Athletic Director at West Vancouver Secondary\nSchool. Teaching is her second career\, and she absolutely loves being a part of the educational and athletic\nadventures of her students.
URL:https://optionssolutionsed.thedev.ca/calendar/young-entrepreneurs-leadership-launchpad-yell-summer-workshop/2020-08-27/
CATEGORIES:summer boot camps,workshop
END:VEVENT
BEGIN:VEVENT
DTSTART;TZID=America/Vancouver:20200826T090000
DTEND;TZID=America/Vancouver:20200826T130000
DTSTAMP:20260425T174353
CREATED:20200415T164906Z
LAST-MODIFIED:20200415T165405Z
UID:6080-1598432400-1598446800@optionssolutionsed.thedev.ca
SUMMARY:Young Entrepreneurs Leadership Launchpad (YELL) Summer Workshop
DESCRIPTION:Want to figure out how to take an idea and turn it into reality? Want to learn about business this summer? \nThe Young Entrepreneur Summer Workshop is a week-long boot camp that will introduce you to the tools and exercises that entrepreneurs use to turn their vision into reality. You’ll learn about entrepreneurship\, design thinking\, how to validate if people are interested in your idea\, and much more. Whether you come with an idea or not\, the program will culminate in your pitching a start-up concept to judges\, and we’ll help you get there! 65% of youth say they’re interested in starting their own business; are you one of them? \nStudents will: \n\nLearn about entrepreneurship in an intensive one-week camp\nHear from inspiring local entrepreneurs and business leaders\nWork with a small group of peers on bringing your project to reality\nExperience a week of business education\nWork with dynamic YELL teachers\nBuild your extracurricular profile\nDevelop problem-solving skills\nPitch your idea to a panel of judges!\n\nAbout the Instructor: \nJo-Anne was the first YELL teacher and has played an instrumental role in shaping and contributing to its\neducational practices and culture. She is a teacher and Athletic Director at West Vancouver Secondary\nSchool. Teaching is her second career\, and she absolutely loves being a part of the educational and athletic\nadventures of her students.
URL:https://optionssolutionsed.thedev.ca/calendar/young-entrepreneurs-leadership-launchpad-yell-summer-workshop/2020-08-26/
CATEGORIES:summer boot camps,workshop
END:VEVENT
BEGIN:VEVENT
DTSTART;TZID=America/Vancouver:20200825T090000
DTEND;TZID=America/Vancouver:20200825T130000
DTSTAMP:20260425T174353
CREATED:20200415T164906Z
LAST-MODIFIED:20200415T165405Z
UID:6079-1598346000-1598360400@optionssolutionsed.thedev.ca
SUMMARY:Young Entrepreneurs Leadership Launchpad (YELL) Summer Workshop
DESCRIPTION:Want to figure out how to take an idea and turn it into reality? Want to learn about business this summer? \nThe Young Entrepreneur Summer Workshop is a week-long boot camp that will introduce you to the tools and exercises that entrepreneurs use to turn their vision into reality. You’ll learn about entrepreneurship\, design thinking\, how to validate if people are interested in your idea\, and much more. Whether you come with an idea or not\, the program will culminate in your pitching a start-up concept to judges\, and we’ll help you get there! 65% of youth say they’re interested in starting their own business; are you one of them? \nStudents will: \n\nLearn about entrepreneurship in an intensive one-week camp\nHear from inspiring local entrepreneurs and business leaders\nWork with a small group of peers on bringing your project to reality\nExperience a week of business education\nWork with dynamic YELL teachers\nBuild your extracurricular profile\nDevelop problem-solving skills\nPitch your idea to a panel of judges!\n\nAbout the Instructor: \nJo-Anne was the first YELL teacher and has played an instrumental role in shaping and contributing to its\neducational practices and culture. She is a teacher and Athletic Director at West Vancouver Secondary\nSchool. Teaching is her second career\, and she absolutely loves being a part of the educational and athletic\nadventures of her students.
URL:https://optionssolutionsed.thedev.ca/calendar/young-entrepreneurs-leadership-launchpad-yell-summer-workshop/2020-08-25/
CATEGORIES:summer boot camps,workshop
END:VEVENT
BEGIN:VEVENT
DTSTART;TZID=America/Vancouver:20200824T090000
DTEND;TZID=America/Vancouver:20200824T130000
DTSTAMP:20260425T174353
CREATED:20200415T164906Z
LAST-MODIFIED:20200415T165405Z
UID:6078-1598259600-1598274000@optionssolutionsed.thedev.ca
SUMMARY:Young Entrepreneurs Leadership Launchpad (YELL) Summer Workshop
DESCRIPTION:Want to figure out how to take an idea and turn it into reality? Want to learn about business this summer? \nThe Young Entrepreneur Summer Workshop is a week-long boot camp that will introduce you to the tools and exercises that entrepreneurs use to turn their vision into reality. You’ll learn about entrepreneurship\, design thinking\, how to validate if people are interested in your idea\, and much more. Whether you come with an idea or not\, the program will culminate in your pitching a start-up concept to judges\, and we’ll help you get there! 65% of youth say they’re interested in starting their own business; are you one of them? \nStudents will: \n\nLearn about entrepreneurship in an intensive one-week camp\nHear from inspiring local entrepreneurs and business leaders\nWork with a small group of peers on bringing your project to reality\nExperience a week of business education\nWork with dynamic YELL teachers\nBuild your extracurricular profile\nDevelop problem-solving skills\nPitch your idea to a panel of judges!\n\nAbout the Instructor: \nJo-Anne was the first YELL teacher and has played an instrumental role in shaping and contributing to its\neducational practices and culture. She is a teacher and Athletic Director at West Vancouver Secondary\nSchool. Teaching is her second career\, and she absolutely loves being a part of the educational and athletic\nadventures of her students.
URL:https://optionssolutionsed.thedev.ca/calendar/young-entrepreneurs-leadership-launchpad-yell-summer-workshop/2020-08-24/
CATEGORIES:summer boot camps,workshop
END:VEVENT
BEGIN:VEVENT
DTSTART;TZID=America/Vancouver:20200814T090000
DTEND;TZID=America/Vancouver:20200814T130000
DTSTAMP:20260425T174353
CREATED:20200415T164906Z
LAST-MODIFIED:20200415T164906Z
UID:6091-1597395600-1597410000@optionssolutionsed.thedev.ca
SUMMARY:Young Entrepreneurs Leadership Launchpad (YELL) Summer Workshop
DESCRIPTION:Want to figure out how to take an idea and turn it into reality? Want to learn about business this summer? \nThe Young Entrepreneur Summer Workshop is a week-long boot camp that will introduce you to the tools and exercises that entrepreneurs use to turn their vision into reality. You’ll learn about entrepreneurship\, design thinking\, how to validate if people are interested in your idea\, and much more. Whether you come with an idea or not\, the program will culminate in your pitching a start-up concept to judges\, and we’ll help you get there! 65% of youth say they’re interested in starting their own business; are you one of them? \nStudents will: \n\nLearn about entrepreneurship in an intensive one-week camp\nHear from inspiring local entrepreneurs and business leaders\nWork with a small group of peers on bringing your project to reality\nExperience a week of business education\nWork with dynamic YELL teachers\nBuild your extracurricular profile\nDevelop problem-solving skills\nPitch your idea to a panel of judges!\n\nAbout the Instructor: \nJo-Anne was the first YELL teacher and has played an instrumental role in shaping and contributing to its\neducational practices and culture. She is a teacher and Athletic Director at West Vancouver Secondary\nSchool. Teaching is her second career\, and she absolutely loves being a part of the educational and athletic\nadventures of her students.
URL:https://optionssolutionsed.thedev.ca/calendar/young-entrepreneurs-leadership-launchpad-yell-summer-workshop/2020-08-14/
CATEGORIES:summer boot camps,workshop
END:VEVENT
BEGIN:VEVENT
DTSTART;TZID=America/Vancouver:20200813T090000
DTEND;TZID=America/Vancouver:20200813T130000
DTSTAMP:20260425T174353
CREATED:20200415T164906Z
LAST-MODIFIED:20200415T164906Z
UID:6090-1597309200-1597323600@optionssolutionsed.thedev.ca
SUMMARY:Young Entrepreneurs Leadership Launchpad (YELL) Summer Workshop
DESCRIPTION:Want to figure out how to take an idea and turn it into reality? Want to learn about business this summer? \nThe Young Entrepreneur Summer Workshop is a week-long boot camp that will introduce you to the tools and exercises that entrepreneurs use to turn their vision into reality. You’ll learn about entrepreneurship\, design thinking\, how to validate if people are interested in your idea\, and much more. Whether you come with an idea or not\, the program will culminate in your pitching a start-up concept to judges\, and we’ll help you get there! 65% of youth say they’re interested in starting their own business; are you one of them? \nStudents will: \n\nLearn about entrepreneurship in an intensive one-week camp\nHear from inspiring local entrepreneurs and business leaders\nWork with a small group of peers on bringing your project to reality\nExperience a week of business education\nWork with dynamic YELL teachers\nBuild your extracurricular profile\nDevelop problem-solving skills\nPitch your idea to a panel of judges!\n\nAbout the Instructor: \nJo-Anne was the first YELL teacher and has played an instrumental role in shaping and contributing to its\neducational practices and culture. She is a teacher and Athletic Director at West Vancouver Secondary\nSchool. Teaching is her second career\, and she absolutely loves being a part of the educational and athletic\nadventures of her students.
URL:https://optionssolutionsed.thedev.ca/calendar/young-entrepreneurs-leadership-launchpad-yell-summer-workshop/2020-08-13/
CATEGORIES:summer boot camps,workshop
END:VEVENT
BEGIN:VEVENT
DTSTART;TZID=America/Vancouver:20200812T090000
DTEND;TZID=America/Vancouver:20200812T130000
DTSTAMP:20260425T174353
CREATED:20200415T164906Z
LAST-MODIFIED:20200415T164906Z
UID:6089-1597222800-1597237200@optionssolutionsed.thedev.ca
SUMMARY:Young Entrepreneurs Leadership Launchpad (YELL) Summer Workshop
DESCRIPTION:Want to figure out how to take an idea and turn it into reality? Want to learn about business this summer? \nThe Young Entrepreneur Summer Workshop is a week-long boot camp that will introduce you to the tools and exercises that entrepreneurs use to turn their vision into reality. You’ll learn about entrepreneurship\, design thinking\, how to validate if people are interested in your idea\, and much more. Whether you come with an idea or not\, the program will culminate in your pitching a start-up concept to judges\, and we’ll help you get there! 65% of youth say they’re interested in starting their own business; are you one of them? \nStudents will: \n\nLearn about entrepreneurship in an intensive one-week camp\nHear from inspiring local entrepreneurs and business leaders\nWork with a small group of peers on bringing your project to reality\nExperience a week of business education\nWork with dynamic YELL teachers\nBuild your extracurricular profile\nDevelop problem-solving skills\nPitch your idea to a panel of judges!\n\nAbout the Instructor: \nJo-Anne was the first YELL teacher and has played an instrumental role in shaping and contributing to its\neducational practices and culture. She is a teacher and Athletic Director at West Vancouver Secondary\nSchool. Teaching is her second career\, and she absolutely loves being a part of the educational and athletic\nadventures of her students.
URL:https://optionssolutionsed.thedev.ca/calendar/young-entrepreneurs-leadership-launchpad-yell-summer-workshop/2020-08-12/
CATEGORIES:summer boot camps,workshop
END:VEVENT
BEGIN:VEVENT
DTSTART;TZID=America/Vancouver:20200811T090000
DTEND;TZID=America/Vancouver:20200811T130000
DTSTAMP:20260425T174354
CREATED:20200415T164906Z
LAST-MODIFIED:20200415T164906Z
UID:6088-1597136400-1597150800@optionssolutionsed.thedev.ca
SUMMARY:Young Entrepreneurs Leadership Launchpad (YELL) Summer Workshop
DESCRIPTION:Want to figure out how to take an idea and turn it into reality? Want to learn about business this summer? \nThe Young Entrepreneur Summer Workshop is a week-long boot camp that will introduce you to the tools and exercises that entrepreneurs use to turn their vision into reality. You’ll learn about entrepreneurship\, design thinking\, how to validate if people are interested in your idea\, and much more. Whether you come with an idea or not\, the program will culminate in your pitching a start-up concept to judges\, and we’ll help you get there! 65% of youth say they’re interested in starting their own business; are you one of them? \nStudents will: \n\nLearn about entrepreneurship in an intensive one-week camp\nHear from inspiring local entrepreneurs and business leaders\nWork with a small group of peers on bringing your project to reality\nExperience a week of business education\nWork with dynamic YELL teachers\nBuild your extracurricular profile\nDevelop problem-solving skills\nPitch your idea to a panel of judges!\n\nAbout the Instructor: \nJo-Anne was the first YELL teacher and has played an instrumental role in shaping and contributing to its\neducational practices and culture. She is a teacher and Athletic Director at West Vancouver Secondary\nSchool. Teaching is her second career\, and she absolutely loves being a part of the educational and athletic\nadventures of her students.
URL:https://optionssolutionsed.thedev.ca/calendar/young-entrepreneurs-leadership-launchpad-yell-summer-workshop/2020-08-11/
CATEGORIES:summer boot camps,workshop
END:VEVENT
BEGIN:VEVENT
DTSTART;TZID=America/Vancouver:20200810T090000
DTEND;TZID=America/Vancouver:20200810T130000
DTSTAMP:20260425T174354
CREATED:20200415T164906Z
LAST-MODIFIED:20200415T165404Z
UID:6076-1597050000-1597064400@optionssolutionsed.thedev.ca
SUMMARY:Young Entrepreneurs Leadership Launchpad (YELL) Summer Workshop
DESCRIPTION:Want to figure out how to take an idea and turn it into reality? Want to learn about business this summer? \nThe Young Entrepreneur Summer Workshop is a week-long boot camp that will introduce you to the tools and exercises that entrepreneurs use to turn their vision into reality. You’ll learn about entrepreneurship\, design thinking\, how to validate if people are interested in your idea\, and much more. Whether you come with an idea or not\, the program will culminate in your pitching a start-up concept to judges\, and we’ll help you get there! 65% of youth say they’re interested in starting their own business; are you one of them? \nStudents will: \n\nLearn about entrepreneurship in an intensive one-week camp\nHear from inspiring local entrepreneurs and business leaders\nWork with a small group of peers on bringing your project to reality\nExperience a week of business education\nWork with dynamic YELL teachers\nBuild your extracurricular profile\nDevelop problem-solving skills\nPitch your idea to a panel of judges!\n\nAbout the Instructor: \nJo-Anne was the first YELL teacher and has played an instrumental role in shaping and contributing to its\neducational practices and culture. She is a teacher and Athletic Director at West Vancouver Secondary\nSchool. Teaching is her second career\, and she absolutely loves being a part of the educational and athletic\nadventures of her students.
URL:https://optionssolutionsed.thedev.ca/calendar/young-entrepreneurs-leadership-launchpad-yell-summer-workshop/2020-08-10/
CATEGORIES:summer boot camps,workshop
END:VEVENT
END:VCALENDAR